BEGIN:VCALENDAR
VERSION:2.0
PRODID:-//West Meade Neighborhood Association - ECPv6.15.9//NONSGML v1.0//EN
CALSCALE:GREGORIAN
METHOD:PUBLISH
X-WR-CALNAME:West Meade Neighborhood Association
X-ORIGINAL-URL:https://westmeade.org
X-WR-CALDESC:Events for West Meade Neighborhood Association
REFRESH-INTERVAL;VALUE=DURATION:PT1H
X-Robots-Tag:noindex
X-PUBLISHED-TTL:PT1H
BEGIN:VTIMEZONE
TZID:America/Chicago
BEGIN:DAYLIGHT
TZOFFSETFROM:-0600
TZOFFSETTO:-0500
TZNAME:CDT
DTSTART:20250309T080000
END:DAYLIGHT
BEGIN:STANDARD
TZOFFSETFROM:-0500
TZOFFSETTO:-0600
TZNAME:CST
DTSTART:20251102T070000
END:STANDARD
BEGIN:DAYLIGHT
TZOFFSETFROM:-0600
TZOFFSETTO:-0500
TZNAME:CDT
DTSTART:20260308T080000
END:DAYLIGHT
BEGIN:STANDARD
TZOFFSETFROM:-0500
TZOFFSETTO:-0600
TZNAME:CST
DTSTART:20261101T070000
END:STANDARD
BEGIN:DAYLIGHT
TZOFFSETFROM:-0600
TZOFFSETTO:-0500
TZNAME:CDT
DTSTART:20270314T080000
END:DAYLIGHT
BEGIN:STANDARD
TZOFFSETFROM:-0500
TZOFFSETTO:-0600
TZNAME:CST
DTSTART:20271107T070000
END:STANDARD
END:VTIMEZONE
BEGIN:VEVENT
DTSTART;TZID=America/Chicago:20260331T180000
DTEND;TZID=America/Chicago:20260331T193000
DTSTAMP:20260423T130553
CREATED:20260324T143000Z
LAST-MODIFIED:20260324T143104Z
UID:2507-1774980000-1774985400@westmeade.org
SUMMARY:West Meade Neighborhood Meeting: Key Issues & 2026 Outlook
DESCRIPTION:Join us for the next West Meade Neighborhood Association meeting on Tuesday\, March 31\, 2026\, from 6:00–7:30 PM at Brook Hollow Baptist Church. This is an important opportunity to stay informed\, ask questions\, and engage in discussions about the issues shaping our community. \nWe’ll cover a range of timely topics\, including zoning and neighborhood density\, infrastructure concerns\, and updates to the environmental overlay. Councilmember Thom Druffel will provide a District 23 update\, and we’ll also discuss the current status of Hillwood High School and share the latest on Vulcan blasting activity. In addition\, we’ll look ahead to community events planned for 2026. \nWhether you’re a longtime resident or new to the neighborhood\, your voice matters. Come connect with neighbors\, learn more about what’s happening in West Meade\, and be part of the conversation.
URL:https://westmeade.org/event/neighborhood-meeting/
LOCATION:Brook Hollow Baptist Church\, 678 Brook Hollow Road\, Nashville\, TN\, 37205\, United States
ORGANIZER;CN="West Meade Neighborhood Association":MAILTO:info@westmeade.org
END:VEVENT
END:VCALENDAR