BEGIN:VCALENDAR
VERSION:2.0
PRODID:-//West Meade Neighborhood Association - ECPv6.15.9//NONSGML v1.0//EN
CALSCALE:GREGORIAN
METHOD:PUBLISH
X-ORIGINAL-URL:https://westmeade.org
X-WR-CALDESC:Events for West Meade Neighborhood Association
REFRESH-INTERVAL;VALUE=DURATION:PT1H
X-Robots-Tag:noindex
X-PUBLISHED-TTL:PT1H
BEGIN:VTIMEZONE
TZID:America/Chicago
BEGIN:DAYLIGHT
TZOFFSETFROM:-0600
TZOFFSETTO:-0500
TZNAME:CDT
DTSTART:20250309T080000
END:DAYLIGHT
BEGIN:STANDARD
TZOFFSETFROM:-0500
TZOFFSETTO:-0600
TZNAME:CST
DTSTART:20251102T070000
END:STANDARD
BEGIN:DAYLIGHT
TZOFFSETFROM:-0600
TZOFFSETTO:-0500
TZNAME:CDT
DTSTART:20260308T080000
END:DAYLIGHT
BEGIN:STANDARD
TZOFFSETFROM:-0500
TZOFFSETTO:-0600
TZNAME:CST
DTSTART:20261101T070000
END:STANDARD
BEGIN:DAYLIGHT
TZOFFSETFROM:-0600
TZOFFSETTO:-0500
TZNAME:CDT
DTSTART:20270314T080000
END:DAYLIGHT
BEGIN:STANDARD
TZOFFSETFROM:-0500
TZOFFSETTO:-0600
TZNAME:CST
DTSTART:20271107T070000
END:STANDARD
END:VTIMEZONE
BEGIN:VEVENT
DTSTART;TZID=America/Chicago:20260426T140000
DTEND;TZID=America/Chicago:20260426T170000
DTSTAMP:20260423T175706
CREATED:20260330T161641Z
LAST-MODIFIED:20260330T164825Z
UID:2511-1777212000-1777222800@westmeade.org
SUMMARY:Harmony Wildlife Annual Fundraiser
DESCRIPTION:Your support helps Harmony Wildlife care for injured and orphaned wildlife. \nLocation: \nTailgate Brewery \n7300 Charlotte Pike \nNashville\, TN 37209 \nJoin us for: \n\nAnimal guests\nFree kids’ crafts\nPhoto booth\nLive music\nA silent auction\nGreat pizza & beer\nAnd more!
URL:https://westmeade.org/event/harmony-wildlife-annual-fundraiser/
LOCATION:TN
ORGANIZER;CN="West Meade Neighborhood Association":MAILTO:info@westmeade.org
END:VEVENT
BEGIN:VEVENT
DTSTART;TZID=America/Chicago:20260530T090000
DTEND;TZID=America/Chicago:20260530T130000
DTSTAMP:20260423T175706
CREATED:20260409T145700Z
LAST-MODIFIED:20260409T154026Z
UID:2530-1780131600-1780146000@westmeade.org
SUMMARY:West Meade Market Day
DESCRIPTION:🏡✨ Join Our Neighborhood Market Day Yard Sale! ✨🏡 \nGot stuff to sell? Clean out those closets\, garages\, and storage bins and turn your clutter into cash at the West Meade Neighborhood Market Day on 5/30 at Brook Hollow Baptist Church! \nThis is your chance to set up your own yard sale without the hassle—just bring your items\, set up\, and enjoy a fun day connecting with neighbors and bargain hunters. \n🛍️ Perfect for selling: \n\nHousehold items & décor\nClothing\, shoes & accessories\nKids toys\, books & baby gear\nFurniture & gently used finds\nHandmade goods\nPlants\nAnything you’re ready to part with!\n\n🌿 Why join? \n\nOne big neighborhood event = more shoppers\nMeet neighbors and make it a fun day\nEasy way to declutter and earn extra cash\n\nSpots are limited\, so grab yours today! \n👉 Sign up HERE \nInvite your neighbors\, tag a friend\, and let’s make this a fabulous neighborhood event! 🙌 \nIf you have a truck or vehicle we need volunteers to help neighbors bring their stuff to Brook Hollow Baptist! Reach out to tracy.beth.dunn@gmail.com if you can volunteer.
URL:https://westmeade.org/event/west-meade-market-day/
LOCATION:Brook Hollow Baptist Church\, 678 Brook Hollow Road\, Nashville\, TN\, 37205\, United States
ORGANIZER;CN="West Meade Neighborhood Association":MAILTO:info@westmeade.org
END:VEVENT
END:VCALENDAR