BEGIN:VCALENDAR
VERSION:2.0
PRODID:-//West Meade Neighborhood Association - ECPv6.15.9//NONSGML v1.0//EN
CALSCALE:GREGORIAN
METHOD:PUBLISH
X-WR-CALNAME:West Meade Neighborhood Association
X-ORIGINAL-URL:https://westmeade.org
X-WR-CALDESC:Events for West Meade Neighborhood Association
REFRESH-INTERVAL;VALUE=DURATION:PT1H
X-Robots-Tag:noindex
X-PUBLISHED-TTL:PT1H
BEGIN:VTIMEZONE
TZID:America/Chicago
BEGIN:DAYLIGHT
TZOFFSETFROM:-0600
TZOFFSETTO:-0500
TZNAME:CDT
DTSTART:20240310T080000
END:DAYLIGHT
BEGIN:STANDARD
TZOFFSETFROM:-0500
TZOFFSETTO:-0600
TZNAME:CST
DTSTART:20241103T070000
END:STANDARD
BEGIN:DAYLIGHT
TZOFFSETFROM:-0600
TZOFFSETTO:-0500
TZNAME:CDT
DTSTART:20250309T080000
END:DAYLIGHT
BEGIN:STANDARD
TZOFFSETFROM:-0500
TZOFFSETTO:-0600
TZNAME:CST
DTSTART:20251102T070000
END:STANDARD
BEGIN:DAYLIGHT
TZOFFSETFROM:-0600
TZOFFSETTO:-0500
TZNAME:CDT
DTSTART:20260308T080000
END:DAYLIGHT
BEGIN:STANDARD
TZOFFSETFROM:-0500
TZOFFSETTO:-0600
TZNAME:CST
DTSTART:20261101T070000
END:STANDARD
END:VTIMEZONE
BEGIN:VEVENT
DTSTART;TZID=America/Chicago:20251203T100000
DTEND;TZID=America/Chicago:20251203T110000
DTSTAMP:20260423T175858
CREATED:20251126T195418Z
LAST-MODIFIED:20251126T195418Z
UID:2488-1764756000-1764759600@westmeade.org
SUMMARY:Nature & History Tour of Brookmeade
DESCRIPTION:Join a Metro Parks staff for a combo nature and history tour of Brookmeade Park. \nThe tour starts with a Naturalist and a leisurely stroll taking in the flora and fauna of the area. The tour continues with a Fort Negley Park historian and will discuss the clash of cannons between Union ironclads and Confederate horsemen that featured strongly in deciding the Battle of Nashville in December 1864. \nTotal time: up to 60 minutes\nDistance: 0.75 mile\nFree and open to the public\nLimited Space – RSVP via FOFNP.org/RSVP \nFor more info: https://www.nashville.gov/departments/parks/events/nature-history-tour-brookmeade-park-0
URL:https://westmeade.org/event/nature-history-tour-of-brookmeade/
LOCATION:TN
END:VEVENT
BEGIN:VEVENT
DTSTART;TZID=America/Chicago:20251027T180000
DTEND;TZID=America/Chicago:20251027T194500
DTSTAMP:20260423T175858
CREATED:20251015T191642Z
LAST-MODIFIED:20251015T191704Z
UID:2455-1761588000-1761594300@westmeade.org
SUMMARY:Re-Zoning Meeting (James Lawson High) – Metro Nashville Department of Planning
DESCRIPTION:Join West Nashville Council Members in Partnership with\nMetro Nashville Department of Planning\nfor a community presentation on proposed changes to the zoning code arising from the Housing & Infrastructure Study. \nOctober 27\, 2025\nJames Lawson High School Auditorium\n8001 Highway 70 South\nPresentation begins at 6:00 pm\, followed by Q&A\nConclusion at 7:45pm
URL:https://westmeade.org/event/re-zoning-meeting-metro-nashville-department-of-planning-2/
LOCATION:James Lawson High School Auditorium\, 8001 Highway 70 South\, Nashville\, TN\, 37221
END:VEVENT
BEGIN:VEVENT
DTSTART;TZID=America/Chicago:20251022T180000
DTEND;TZID=America/Chicago:20251022T194500
DTSTAMP:20260423T175858
CREATED:20251015T191528Z
LAST-MODIFIED:20251015T191725Z
UID:2452-1761156000-1761162300@westmeade.org
SUMMARY:Re-Zoning Meeting (Hillsboro High) - Metro Nashville Department of Planning
DESCRIPTION:Join West Nashville Council Members in Partnership with\nMetro Nashville Department of Planning\nfor a community presentation on proposed changes to the zoning code arising from the Housing & Infrastructure Study. \nOctober 22\, 2025\nHillsboro High School\n3812 Hillsboro Pike \nPresentation begins at 6:00 pm\, followed by Q&A\nConclusion at 7:45pm
URL:https://westmeade.org/event/re-zoning-meeting-metro-nashville-department-of-planning/
LOCATION:Hillsboro High School\, 3812 Hillsboro Pike\, Nashville\, TN\, 37215
END:VEVENT
BEGIN:VEVENT
DTSTART;TZID=America/Chicago:20251018T090000
DTEND;TZID=America/Chicago:20251018T130000
DTSTAMP:20260423T175858
CREATED:20250922T205211Z
LAST-MODIFIED:20250922T205211Z
UID:2373-1760778000-1760792400@westmeade.org
SUMMARY:Brook Hollow's Community Market
DESCRIPTION:Brook Hollow Baptist Church is hosting a Community Market on Saturday\, October 18th\, from 9 am to 1 pm\, and they would love for you to attend!
URL:https://westmeade.org/event/brook-hollows-community-market/
LOCATION:Brook Hollow Baptist Church\, 678 Brook Hollow Road\, Nashville\, TN\, 37205\, United States
CATEGORIES:West Meade / Hillwood Event
ATTACH;FMTTYPE=image/jpeg:https://westmeade.org/wp-content/uploads/2025/09/545161966_1087151523590503_5102517748568049055_n.jpg
END:VEVENT
BEGIN:VEVENT
DTSTART;TZID=America/Chicago:20251011T160000
DTEND;TZID=America/Chicago:20251011T180000
DTSTAMP:20260423T175858
CREATED:20250911T201741Z
LAST-MODIFIED:20250923T192719Z
UID:2345-1760198400-1760205600@westmeade.org
SUMMARY:Pumpkin Painting & Carving - Meet the Neighbors
DESCRIPTION:Join us for a casual neighborhood meetup! The West Meade NA will supply pumpkins and paint. Just bring your friends and family\, and you favorite snacks or drinks. \nDate: Saturday October 11th\, 2025 \nTime: 4-6pm \nLocation: Hillwood High School Lawn (400 Davidson Road) \nSummary: Free Pumpkins and Painting stations! Bring a carving kit\, snacks & drinks if you’re so inclined.
URL:https://westmeade.org/event/pumpkin-painting-carving-meet-the-neighbors/
LOCATION:Hillwood High School\, 400 Davidson Rd\, Nashville\, United States
ORGANIZER;CN="West Meade Neighborhood Association":MAILTO:info@westmeade.org
END:VEVENT
BEGIN:VEVENT
DTSTART;TZID=America/Chicago:20250927T190000
DTEND;TZID=America/Chicago:20250927T210000
DTSTAMP:20260423T175858
CREATED:20250913T210918Z
LAST-MODIFIED:20250913T210918Z
UID:2367-1758999600-1759006800@westmeade.org
SUMMARY:Climate Nashville Benefit Concert
DESCRIPTION:A benefit for Climate Nashville and the Nashville Chapter of the Climate Reality Project. \nBuy Tickets Here\nDoors and Reception 6pm \nConcert 7pm\, featuring a wonderful line-up of musicians – renowned folk singer TIM EASTON – with Tom Gibney\, Julie Grower\, Tracee Perrin\, Michael and Nell\, Brant Miller. \n 
URL:https://westmeade.org/event/climate-nashville-benefit-concert/
LOCATION:TN
END:VEVENT
BEGIN:VEVENT
DTSTART;TZID=America/Chicago:20250913T100000
DTEND;TZID=America/Chicago:20250913T104500
DTSTAMP:20260423T175858
CREATED:20250911T205014Z
LAST-MODIFIED:20250911T205014Z
UID:2351-1757757600-1757760300@westmeade.org
SUMMARY:Walk in Brookmeade Park with Council Member Thom Druffel
DESCRIPTION:Start your weekend right with a quick walk in the park. Join Thom and our neighbors in District 23 on a walk through the recently opened Brooke Meade Greenway. \nWe will start at 10 AM this Saturday\, 9/13 (and every second Saturday of the month). The walk will be about 45 minutes long with great views of the Cumberland River. Coffee and donuts will be provided. The parking lot is right across from Jim N Nick’s restaurant. Hope to see you there!
URL:https://westmeade.org/event/walk-in-brookmeade-park-with-council-member-thom-druffel/
LOCATION:Brookmeade Park\, 7004 Charlotte Pike\, Nashville\, Tennessee\, 37209\, United States
END:VEVENT
BEGIN:VEVENT
DTSTART;TZID=America/Chicago:20250814T180000
DTEND;TZID=America/Chicago:20250814T193000
DTSTAMP:20260423T175858
CREATED:20250806T165653Z
LAST-MODIFIED:20250806T165819Z
UID:2320-1755194400-1755199800@westmeade.org
SUMMARY:WMNA Neighborhood Meeting - Brook Hollow Baptist Church
DESCRIPTION:We will be discussing the latest important issues around West Meade and surrounding neighborhoods.
URL:https://westmeade.org/event/wmna-neighborhood-meeting/
LOCATION:Brook Hollow Baptist Church\, 678 Brook Hollow Road\, Nashville\, TN\, 37205\, United States
END:VEVENT
BEGIN:VEVENT
DTSTART;TZID=America/Chicago:20250719T110000
DTEND;TZID=America/Chicago:20250719T140000
DTSTAMP:20260423T175858
CREATED:20250714T001648Z
LAST-MODIFIED:20250714T001648Z
UID:2295-1752922800-1752933600@westmeade.org
SUMMARY:Meet and Greet WMNA!
DESCRIPTION:Come meet the WMNA Board\, and tell us what you think!
URL:https://westmeade.org/event/meet-and-greet-wmna/
LOCATION:Hillwood High School\, 400 Davidson Rd\, Nashville\, United States
ORGANIZER;CN="West Meade Neighborhood Association":MAILTO:info@westmeade.org
END:VEVENT
END:VCALENDAR