BEGIN:VCALENDAR
VERSION:2.0
PRODID:-//West Meade Neighborhood Association - ECPv6.15.9//NONSGML v1.0//EN
CALSCALE:GREGORIAN
METHOD:PUBLISH
X-ORIGINAL-URL:https://westmeade.org
X-WR-CALDESC:Events for West Meade Neighborhood Association
REFRESH-INTERVAL;VALUE=DURATION:PT1H
X-Robots-Tag:noindex
X-PUBLISHED-TTL:PT1H
BEGIN:VTIMEZONE
TZID:America/Chicago
BEGIN:DAYLIGHT
TZOFFSETFROM:-0600
TZOFFSETTO:-0500
TZNAME:CDT
DTSTART:20240310T080000
END:DAYLIGHT
BEGIN:STANDARD
TZOFFSETFROM:-0500
TZOFFSETTO:-0600
TZNAME:CST
DTSTART:20241103T070000
END:STANDARD
BEGIN:DAYLIGHT
TZOFFSETFROM:-0600
TZOFFSETTO:-0500
TZNAME:CDT
DTSTART:20250309T080000
END:DAYLIGHT
BEGIN:STANDARD
TZOFFSETFROM:-0500
TZOFFSETTO:-0600
TZNAME:CST
DTSTART:20251102T070000
END:STANDARD
BEGIN:DAYLIGHT
TZOFFSETFROM:-0600
TZOFFSETTO:-0500
TZNAME:CDT
DTSTART:20260308T080000
END:DAYLIGHT
BEGIN:STANDARD
TZOFFSETFROM:-0500
TZOFFSETTO:-0600
TZNAME:CST
DTSTART:20261101T070000
END:STANDARD
END:VTIMEZONE
BEGIN:VEVENT
DTSTART;TZID=America/Chicago:20251018T090000
DTEND;TZID=America/Chicago:20251018T130000
DTSTAMP:20260423T163138
CREATED:20250922T205211Z
LAST-MODIFIED:20250922T205211Z
UID:2373-1760778000-1760792400@westmeade.org
SUMMARY:Brook Hollow's Community Market
DESCRIPTION:Brook Hollow Baptist Church is hosting a Community Market on Saturday\, October 18th\, from 9 am to 1 pm\, and they would love for you to attend!
URL:https://westmeade.org/event/brook-hollows-community-market/
LOCATION:Brook Hollow Baptist Church\, 678 Brook Hollow Road\, Nashville\, TN\, 37205\, United States
CATEGORIES:West Meade / Hillwood Event
ATTACH;FMTTYPE=image/jpeg:https://westmeade.org/wp-content/uploads/2025/09/545161966_1087151523590503_5102517748568049055_n.jpg
END:VEVENT
END:VCALENDAR