BEGIN:VCALENDAR
VERSION:2.0
PRODID:-//West Meade Neighborhood Association - ECPv6.15.9//NONSGML v1.0//EN
CALSCALE:GREGORIAN
METHOD:PUBLISH
X-ORIGINAL-URL:https://westmeade.org
X-WR-CALDESC:Events for West Meade Neighborhood Association
REFRESH-INTERVAL;VALUE=DURATION:PT1H
X-Robots-Tag:noindex
X-PUBLISHED-TTL:PT1H
BEGIN:VTIMEZONE
TZID:America/Chicago
BEGIN:DAYLIGHT
TZOFFSETFROM:-0600
TZOFFSETTO:-0500
TZNAME:CDT
DTSTART:20240310T080000
END:DAYLIGHT
BEGIN:STANDARD
TZOFFSETFROM:-0500
TZOFFSETTO:-0600
TZNAME:CST
DTSTART:20241103T070000
END:STANDARD
BEGIN:DAYLIGHT
TZOFFSETFROM:-0600
TZOFFSETTO:-0500
TZNAME:CDT
DTSTART:20250309T080000
END:DAYLIGHT
BEGIN:STANDARD
TZOFFSETFROM:-0500
TZOFFSETTO:-0600
TZNAME:CST
DTSTART:20251102T070000
END:STANDARD
BEGIN:DAYLIGHT
TZOFFSETFROM:-0600
TZOFFSETTO:-0500
TZNAME:CDT
DTSTART:20260308T080000
END:DAYLIGHT
BEGIN:STANDARD
TZOFFSETFROM:-0500
TZOFFSETTO:-0600
TZNAME:CST
DTSTART:20261101T070000
END:STANDARD
END:VTIMEZONE
BEGIN:VEVENT
DTSTART;TZID=America/Chicago:20251027T180000
DTEND;TZID=America/Chicago:20251027T194500
DTSTAMP:20260423T210447
CREATED:20251015T191642Z
LAST-MODIFIED:20251015T191704Z
UID:2455-1761588000-1761594300@westmeade.org
SUMMARY:Re-Zoning Meeting (James Lawson High) – Metro Nashville Department of Planning
DESCRIPTION:Join West Nashville Council Members in Partnership with\nMetro Nashville Department of Planning\nfor a community presentation on proposed changes to the zoning code arising from the Housing & Infrastructure Study. \nOctober 27\, 2025\nJames Lawson High School Auditorium\n8001 Highway 70 South\nPresentation begins at 6:00 pm\, followed by Q&A\nConclusion at 7:45pm
URL:https://westmeade.org/event/re-zoning-meeting-metro-nashville-department-of-planning-2/
LOCATION:James Lawson High School Auditorium\, 8001 Highway 70 South\, Nashville\, TN\, 37221
END:VEVENT
END:VCALENDAR